BEGIN:VCALENDAR
VERSION:2.0
PRODID:-//Simcoe County Historical Association - ECPv6.15.20//NONSGML v1.0//EN
CALSCALE:GREGORIAN
METHOD:PUBLISH
X-ORIGINAL-URL:https://www.simcoecountyhistory.ca
X-WR-CALDESC:Events for Simcoe County Historical Association
REFRESH-INTERVAL;VALUE=DURATION:PT1H
X-Robots-Tag:noindex
X-PUBLISHED-TTL:PT1H
BEGIN:VTIMEZONE
TZID:America/New_York
BEGIN:DAYLIGHT
TZOFFSETFROM:-0500
TZOFFSETTO:-0400
TZNAME:EDT
DTSTART:20220313T070000
END:DAYLIGHT
BEGIN:STANDARD
TZOFFSETFROM:-0400
TZOFFSETTO:-0500
TZNAME:EST
DTSTART:20221106T060000
END:STANDARD
BEGIN:DAYLIGHT
TZOFFSETFROM:-0500
TZOFFSETTO:-0400
TZNAME:EDT
DTSTART:20230312T070000
END:DAYLIGHT
BEGIN:STANDARD
TZOFFSETFROM:-0400
TZOFFSETTO:-0500
TZNAME:EST
DTSTART:20231105T060000
END:STANDARD
BEGIN:DAYLIGHT
TZOFFSETFROM:-0500
TZOFFSETTO:-0400
TZNAME:EDT
DTSTART:20240310T070000
END:DAYLIGHT
BEGIN:STANDARD
TZOFFSETFROM:-0400
TZOFFSETTO:-0500
TZNAME:EST
DTSTART:20241103T060000
END:STANDARD
BEGIN:DAYLIGHT
TZOFFSETFROM:-0500
TZOFFSETTO:-0400
TZNAME:EDT
DTSTART:20250309T070000
END:DAYLIGHT
BEGIN:STANDARD
TZOFFSETFROM:-0400
TZOFFSETTO:-0500
TZNAME:EST
DTSTART:20251102T060000
END:STANDARD
BEGIN:DAYLIGHT
TZOFFSETFROM:-0500
TZOFFSETTO:-0400
TZNAME:EDT
DTSTART:20260308T070000
END:DAYLIGHT
BEGIN:STANDARD
TZOFFSETFROM:-0400
TZOFFSETTO:-0500
TZNAME:EST
DTSTART:20261101T060000
END:STANDARD
END:VTIMEZONE
BEGIN:VEVENT
DTSTART;TZID=America/New_York:20250527T190000
DTEND;TZID=America/New_York:20250527T200000
DTSTAMP:20260424T121805
CREATED:20250520T174317Z
LAST-MODIFIED:20250520T190602Z
UID:1873-1748372400-1748376000@www.simcoecountyhistory.ca
SUMMARY:2025 AGM - May 27\, 2025
DESCRIPTION:A The 2025 Annual General Meeting has been scheduled on Zoom\, for Tuesday\, May 27\, at 7:00 pm. \nThe Agenda of the AGM can be viewed and downloaded HERE (a new page will open). \nThe Minutes of the 2024 AGM can be viewed and downloaded HERE (a new page will open). \nThe 2024 Activity Reports can be viewed and downloaded HERE (a new page will open). \nThe 2024 Statement of Operations can be viewed and downloaded HERE (a new page will open). \nJoin the Meeting on Zoom prior to 7:00 pm\, Tuesday May 27\, 2025 by clicking HERE  (the Zoom.us web page or your Zoom app will open – your consent may be requested).
URL:https://www.simcoecountyhistory.ca/event/2025-agm/
ORGANIZER;CN="Simcoe County Historical Association":MAILTO:info@simcoecountyhistory.ca
END:VEVENT
BEGIN:VEVENT
DTSTART;TZID=America/New_York:20240910T183000
DTEND;TZID=America/New_York:20240910T200000
DTSTAMP:20260424T121805
CREATED:20240828T223051Z
LAST-MODIFIED:20240829T024400Z
UID:1844-1725993000-1725998400@www.simcoecountyhistory.ca
SUMMARY:Special Membership Meeting - Sept. 10\, 2024
DESCRIPTION:A Special membership Meeting has been scheduled on Zoom\, for Tuesday September 10\, at 6:30 pm\, to approve the updating of the By-laws of the Simcoe County Historical Association in order to bring the Association into compliance with the Ontario Not-for-Profit Corporations Act. \nThe Agenda of the Special Membership Meeting can be viewed and downloaded HERE. \nA summary of the changes to the Association By-laws can be viewed and downloaded HERE. \nThe draft Revised By-laws can be viewed and downloaded HERE. \nJoin the Meeting on Zoom prior to 6:30 pm\, Tuesday September 10 by clicking HERE.
URL:https://www.simcoecountyhistory.ca/event/special-membership-meeting-sept-10-2024/
ORGANIZER;CN="Simcoe County Historical Association":MAILTO:info@simcoecountyhistory.ca
END:VEVENT
BEGIN:VEVENT
DTSTART;TZID=America/New_York:20240602T103000
DTEND;TZID=America/New_York:20240602T140000
DTSTAMP:20260424T121805
CREATED:20240501T145338Z
LAST-MODIFIED:20240501T150439Z
UID:1742-1717324200-1717336800@www.simcoecountyhistory.ca
SUMMARY:TWGHS June Picnic
DESCRIPTION:
URL:https://www.simcoecountyhistory.ca/event/twghs-june-picnic/
ATTACH;FMTTYPE=image/jpeg:https://www.simcoecountyhistory.ca/wp-content/uploads/2024/05/TWGHS-210x300-1.jpg
END:VEVENT
BEGIN:VEVENT
DTSTART;TZID=America/New_York:20240504T120000
DTEND;TZID=America/New_York:20240504T150000
DTSTAMP:20260424T121805
CREATED:20240501T144943Z
LAST-MODIFIED:20240501T144943Z
UID:1738-1714824000-1714834800@www.simcoecountyhistory.ca
SUMMARY:Open House - Simcoe County Branch - Ontario Ancestors
DESCRIPTION:
URL:https://www.simcoecountyhistory.ca/event/open-house-simcoe-county-branch-ontario-ancestors/
ATTACH;FMTTYPE=image/jpeg:https://www.simcoecountyhistory.ca/wp-content/uploads/2024/05/Simcoe-OGS.jpg
END:VEVENT
BEGIN:VEVENT
DTSTART;TZID=America/New_York:20240501T080000
DTEND;TZID=America/New_York:20240616T170000
DTSTAMP:20260424T121805
CREATED:20240501T145653Z
LAST-MODIFIED:20240501T150110Z
UID:1745-1714550400-1718557200@www.simcoecountyhistory.ca
SUMMARY:ACO Heritage Award Nominations
DESCRIPTION:Architectural Conservancy Ontario’s\n2024 Heritage Awards\nNominations are now open!\nNominate an individual\, a project\, or an initiative to recognize a local contribution to architectural conservation in Ontario.\n      For more information: www.acoheritageawards.ca\nNominate: formpl.us/form/4602896218456064 The deadline to nominate is Sunday\, June 16th. \nIf you have any questions about the nomination process\, please don’t hesitate to contact: awards@acontario.ca
URL:https://www.simcoecountyhistory.ca/event/aco-heritage-award-nominations/
ATTACH;FMTTYPE=image/jpeg:https://www.simcoecountyhistory.ca/wp-content/uploads/2024/05/ACO_Logo-e1714575623180.jpg
END:VEVENT
BEGIN:VEVENT
DTSTART;TZID=America/New_York:20240427T133000
DTEND;TZID=America/New_York:20240427T160000
DTSTAMP:20260424T121805
CREATED:20240418T204636Z
LAST-MODIFIED:20240418T204636Z
UID:1725-1714224600-1714233600@www.simcoecountyhistory.ca
SUMMARY:Celebrating the Exceptional Talents of Canadian Cartoonist Walter Ball
DESCRIPTION:Co-sponsored by the Essa Historical Society and SCHA this celebration of Walter’s exceptional talents is hosted by the Museum on the Boyne. \nGet the inside story from Mike Elines\, Walter’s nephew on Saturday 27 April. Enjoy “delectable refreshments” fitting of Walter’s personality. \n  \n  \nWhen: Saturday 27 April 2024\nTime: 1:30 – 3:30 PM\nWhere Museum on the Boyne\, 250 Fletcher Cres.\, Alliston \nPlease RSVP (so we will have enough “delectables”) – Click here to RSVP
URL:https://www.simcoecountyhistory.ca/event/celebrating-the-exceptional-talents-of-canadian-cartoonist-walter-ball/
LOCATION:Museum on the Boyne\, 250 Fletcher Cres.\, Alliston\, L9R 1M1
ATTACH;FMTTYPE=image/jpeg:https://www.simcoecountyhistory.ca/wp-content/uploads/2024/04/Walter_Ball-1.jpg
END:VEVENT
BEGIN:VEVENT
DTSTART;TZID=America/New_York:20231021T130000
DTEND;TZID=America/New_York:20231021T150000
DTSTAMP:20260424T121805
CREATED:20231019T160817Z
LAST-MODIFIED:20231019T160817Z
UID:1680-1697893200-1697900400@www.simcoecountyhistory.ca
SUMMARY:SCHA Heritage Business Award - Open House
DESCRIPTION:Join SCHA in our celebration of Sanderson Monument – a 5 generation business in Simcoe County and recipient of the 2023 Heritage Business Award. \n 
URL:https://www.simcoecountyhistory.ca/event/scha-heritage-business-award-open-house/
ORGANIZER;CN="Simcoe County Historical Association":MAILTO:info@simcoecountyhistory.ca
END:VEVENT
BEGIN:VEVENT
DTSTART;TZID=America/New_York:20230429T130000
DTEND;TZID=America/New_York:20230429T133000
DTSTAMP:20260424T121805
CREATED:20230419T190403Z
LAST-MODIFIED:20230419T190938Z
UID:1601-1682773200-1682775000@www.simcoecountyhistory.ca
SUMMARY:SCHA - Annual General Meeting
DESCRIPTION:Simcoe County Historical Association is inviting you to attend our Annual General Meeting (AGM) \n  \nThe full information package can be accessed at:  https://www.simcoecountyhistory.ca/annual-general-meeting-2023/ \nTo attend only the AGM\, please RSVP to: \nDeb Crawford at:  debl.crawford@outlook.com \nMembers please ensure that your membership is paid before or at the meeting. \n  \nImmediately following the AGM Brian Charles\, will inform and entertain with his presentation “Wampum Belts – Woven through Anishinaabe History”. \nThis session is fully booked however\, we have reserved a limited number of seats for Simcoe County Historical Association members. If you have not reserved a seat for the presentation and wish to attend both the AGM and Brian Charles’ presentation\, contact Deb Crawford at: debl.crawford@outlook.com.  We will make every effort to accommodate your request.
URL:https://www.simcoecountyhistory.ca/event/scha-annual-general-meeting/
LOCATION:Simcoe County Museum\, 1151 Highway 26\, Minesing\, Ontario\, L9X 0Z7\, Canada
ORGANIZER;CN="Simcoe County Historical Association":MAILTO:info@simcoecountyhistory.ca
END:VEVENT
END:VCALENDAR